BEGIN:VCALENDAR
VERSION:2.0
PRODID:-//ODC - ECPv6.15.20//NONSGML v1.0//EN
CALSCALE:GREGORIAN
METHOD:PUBLISH
X-WR-CALNAME:ODC
X-ORIGINAL-URL:https://www.xn--diversit-culturelle-izb.org
X-WR-CALDESC:Évènements pour ODC
REFRESH-INTERVAL;VALUE=DURATION:PT1H
X-Robots-Tag:noindex
X-PUBLISHED-TTL:PT1H
BEGIN:VTIMEZONE
TZID:UTC
BEGIN:STANDARD
TZOFFSETFROM:+0000
TZOFFSETTO:+0000
TZNAME:UTC
DTSTART:20240101T000000
END:STANDARD
END:VTIMEZONE
BEGIN:VEVENT
DTSTART;TZID=UTC:20250304T190000
DTEND;TZID=UTC:20250304T213000
DTSTAMP:20260420T113455
CREATED:20241215T125554Z
LAST-MODIFIED:20250208T184443Z
UID:18763-1741114800-1741123800@www.xn--diversit-culturelle-izb.org
SUMMARY:Ciné débat\, Focus sur la Géorgie
DESCRIPTION:Ciné débat\, Focus sur la Géorgie				\n				\n				\n				\n					\n		\n			4 mars 2025\n\n	\n\n	 :  \n\n\n19 h 00 min\n\n		\n\n\n\n	\n	  -  \n\n21 h 30 min\n\n\n\n	\n				\n				\n		\n				\n				\n									Prix de l’Évènement :								\n				\n				\n				\n		\n		\n				\n				\n																\n															\n															\n				\n				\n		\n				\n				\n									L’Observatoire de la diversité culturelle\,en partenariat avec le Centre culturel Jean-Cocteau vous invite au ciné-débat.Mardi 4 Mars 2025 à 19H00Auditorium du centre culturel Jean Cocteau – Les Lilas 								\n				\n				\n				\n									Projection du film documentaire «Géorgie sur un fil» ensemble de courts métrages réalisés par des étudiants de l’école de journalisme de Strasbourg 								\n				\n				\n				\n									\n					\n						\n						\n							\n									Voir l'article\n					\n					\n				\n								\n				\n				\n				\n		\n		\n				\n				\n					ORGANISATEUR				\n				\n		\n				\n				\n					\n	\n	ODC\n	\n	\n\n	Site :Voir le site Organisateur \n\n\n	\n	E-mail :\n					\n			contact@xn--diversit-culturelle-izb.org			\n	 \n\n\n\n				\n				\n				\n				\n		\n				\n				\n					LIEU				\n				\n		\n				\n				\n					\n				\n				\n	\n	Espace Anglemont\n	\n	\n\n35 place Charles de Gaulle\n	\n		\n		Les Lilas\,\n\n\n	93260\n\n\n\n\n\n	+ Google Map \n\n\n	\n					\n						\n	 \n\n\n	\n	Voir Lieu site web \n\n\n\n	\n\n		\n	\n				\n				\n				\n				\n				\n		\n				\n				\n					\n	\n		\n\n	\n	Ajouter au calendrier	\n		\n	\n\n		\n			\n									\n	Google Agenda\n\n									\n	iCalendar\n\n									\n	Outlook 365\n\n									\n	Outlook Live\n\n							\n		\n\n		\n	\n\n				\n				\n		\n				\n				\n					\n	\n		\n\n				Ciné conférence\, un Après midi USA	\n\n\n		\n	\n		Rencontre Littéraire\, 28 Mars 2025
URL:https://www.xn--diversit-culturelle-izb.org/event/cine-debat-focus-sur-la-georgie/
LOCATION:Espace Anglemont\, 35 place Charles de Gaulle\, Les Lilas\, 93260
CATEGORIES:Ciné Rencontres
ATTACH;FMTTYPE=image/jpeg:https://www.xn--diversit-culturelle-izb.org/odc2/wp-content/uploads/2024/12/Georgie2.jpg
ORGANIZER;CN="ODC":MAILTO:contact@xn--diversit-culturelle-izb.org
END:VEVENT
END:VCALENDAR