BEGIN:VCALENDAR
VERSION:2.0
PRODID:-//ODC - ECPv6.15.20//NONSGML v1.0//EN
CALSCALE:GREGORIAN
METHOD:PUBLISH
X-WR-CALNAME:ODC
X-ORIGINAL-URL:https://www.xn--diversit-culturelle-izb.org
X-WR-CALDESC:Évènements pour ODC
REFRESH-INTERVAL;VALUE=DURATION:PT1H
X-Robots-Tag:noindex
X-PUBLISHED-TTL:PT1H
BEGIN:VTIMEZONE
TZID:UTC
BEGIN:STANDARD
TZOFFSETFROM:+0000
TZOFFSETTO:+0000
TZNAME:UTC
DTSTART:20250101T000000
END:STANDARD
END:VTIMEZONE
BEGIN:VEVENT
DTSTART;TZID=UTC:20260609T190000
DTEND;TZID=UTC:20260609T210000
DTSTAMP:20260420T164234
CREATED:20260420T105454Z
LAST-MODIFIED:20260420T105957Z
UID:21620-1781031600-1781038800@www.xn--diversit-culturelle-izb.org
SUMMARY:Ciné-Débat\, Coming out
DESCRIPTION:Ciné-Débat\, Coming out				\n				\n		\n		\n				\n				\n					\n		\n			9 juin 2026\n\n	\n\n	 :  \n\n\n19 h 00 min\n\n		\n\n\n\n	\n	  -  \n\n21 h 00 min\n\n\n\n	\n				\n				\n				\n		\n				\n				\n									Prix de l’Évènement :								\n				\n				\n				\n					\nGratuit 				\n				\n				\n				\n				\n		\n		\n				\n				\n																\n															\n															\n				\n				\n		\n				\n				\n									L’Observatoire de la diversité culturelle\,en partenariat en partenariat avec la ville des Lilas vous invite à la conférence.Centre culturel Jean Cocteau – Les Lilas 								\n				\n				\n				\n									Projection du documentaire « Coming out » de Denis Parrot 								\n				\n				\n				\n									\n					\n						\n						\n							\n									Détails dans l'article\n					\n					\n				\n								\n				\n				\n				\n		\n		\n				\n				\n					ORGANISATEUR				\n				\n		\n				\n				\n					\n	\n	ODC\n	\n	\n\n	Site :Voir le site Organisateur \n\n\n	\n	E-mail :\n					\n			contact@xn--diversit-culturelle-izb.org			\n	 \n\n\n\n				\n				\n				\n				\n		\n				\n				\n					LIEU				\n				\n		\n				\n				\n					\n				\n				\n	\n	Centre culturel Jean-Cocteau\n	\n	\n\n35\, Place Charles-de-Gaulle\n	\n		\n		Les lilas\,\n\n	Seine-Saint-Denis\n\n	93260\n\n\n\n\n\n	+ Google Map \n\n\n	\n					\n						\n	 \n\n\n	\n	Voir Lieu site web \n\n\n\n	\n\n		\n	\n				\n				\n				\n				\n				\n		\n				\n				\n					\n	\n		\n\n	\n	Ajouter au calendrier	\n		\n	\n\n		\n			\n									\n	Google Agenda\n\n									\n	iCalendar\n\n									\n	Outlook 365\n\n									\n	Outlook Live\n\n							\n		\n\n		\n	\n\n				\n				\n		\n				\n				\n					\n	\n		\n\n				Rencontre Littéraire\, 8 avril 2026	\n\n\n		\n	\n		Ouverture du FIFDA 2026
URL:https://www.xn--diversit-culturelle-izb.org/event/cine-debat-coming-out/
LOCATION:Centre culturel Jean-Cocteau\, 35\, Place Charles-de-Gaulle\, Les lilas\, Seine-Saint-Denis\, 93260
ATTACH;FMTTYPE=image/webp:https://www.xn--diversit-culturelle-izb.org/odc2/wp-content/uploads/2026/04/4232239.webp
ORGANIZER;CN="ODC":MAILTO:contact@xn--diversit-culturelle-izb.org
END:VEVENT
END:VCALENDAR